BEGIN:VCALENDAR
VERSION:2.0
PRODID:-//Alma Parchet - ECPv6.15.20//NONSGML v1.0//EN
CALSCALE:GREGORIAN
METHOD:PUBLISH
X-ORIGINAL-URL:https://superparchet.ro
X-WR-CALDESC:Evenimente pentru Alma Parchet
REFRESH-INTERVAL;VALUE=DURATION:PT1H
X-Robots-Tag:noindex
X-PUBLISHED-TTL:PT1H
BEGIN:VTIMEZONE
TZID:Europe/Helsinki
BEGIN:DAYLIGHT
TZOFFSETFROM:+0200
TZOFFSETTO:+0300
TZNAME:EEST
DTSTART:20230326T010000
END:DAYLIGHT
BEGIN:STANDARD
TZOFFSETFROM:+0300
TZOFFSETTO:+0200
TZNAME:EET
DTSTART:20231029T010000
END:STANDARD
BEGIN:DAYLIGHT
TZOFFSETFROM:+0200
TZOFFSETTO:+0300
TZNAME:EEST
DTSTART:20240331T010000
END:DAYLIGHT
BEGIN:STANDARD
TZOFFSETFROM:+0300
TZOFFSETTO:+0200
TZNAME:EET
DTSTART:20241027T010000
END:STANDARD
BEGIN:DAYLIGHT
TZOFFSETFROM:+0200
TZOFFSETTO:+0300
TZNAME:EEST
DTSTART:20250330T010000
END:DAYLIGHT
BEGIN:STANDARD
TZOFFSETFROM:+0300
TZOFFSETTO:+0200
TZNAME:EET
DTSTART:20251026T010000
END:STANDARD
END:VTIMEZONE
BEGIN:VEVENT
DTSTART;TZID=Europe/Helsinki:20240926T180000
DTEND;TZID=Europe/Helsinki:20240926T203000
DTSTAMP:20260419T165834
CREATED:20240904T081057Z
LAST-MODIFIED:20240904T081528Z
UID:90072-1727373600-1727382600@superparchet.ro
SUMMARY:di’zainin by Alma Parchet\, ediția 9
DESCRIPTION:[vc_row row_height_percent=”0″ override_padding=”yes” h_padding=”0″ top_padding=”2″ bottom_padding=”2″ overlay_alpha=”50″ gutter_size=”3″ column_width_percent=”100″ border_color=”color-143410″ border_style=”solid” shift_y=”0″ z_index=”0″ uncode_shortcode_id=”126599″ border_color_type=”uncode-palette” el_id=”cstextra36″][vc_column][vc_separator sep_color=”color-143410″ uncode_shortcode_id=”405246″ sep_color_type=”uncode-palette”][/vc_column][/vc_row][vc_row row_height_percent=”0″ override_padding=”yes” h_padding=”0″ top_padding=”0″ bottom_padding=”2″ overlay_alpha=”50″ gutter_size=”3″ column_width_percent=”100″ border_color=”color-143410″ border_style=”solid” shift_y=”0″ z_index=”0″ uncode_shortcode_id=”851075″ border_color_type=”uncode-palette” el_id=”cstextra36″][vc_column column_width_percent=”100″ gutter_size=”3″ overlay_alpha=”50″ shift_x=”0″ shift_y=”0″ shift_y_down=”0″ z_index=”0″ medium_width=”0″ mobile_width=”0″ sticky=”yes” width=”1/2″ uncode_shortcode_id=”181414″][vc_single_image media=”90073″ media_width_percent=”100″ media_ratio=”one-one” uncode_shortcode_id=”275857″][/vc_column][vc_column column_width_percent=”100″ gutter_size=”2″ overlay_alpha=”50″ shift_x=”0″ shift_y=”0″ shift_y_down=”0″ z_index=”0″ medium_width=”0″ mobile_width=”0″ width=”1/2″ uncode_shortcode_id=”496681″][vc_custom_heading text_font=”font-762333″ text_size=”h3″ text_weight=”500″ text_height=”fontheight-179065″ text_space=”fontspace-781688″ uncode_shortcode_id=”105121″]Eveniment dedicat arhitecților și designerilor de interior[/vc_custom_heading][vc_column_text uncode_shortcode_id=”121445″]Ne reîntoarcem cu drag și bucurie să vă anunțăm di’zainin by Alma Parchet\, ediția 9\, care se va desfășura pe 26 septembrie\, în același spațiu românesc primitor: restaurantul Nicorești\, situat pe strada Toamnei nr. 13\, etaj 1. \nAcest eveniment reprezintă o ocazie unică de întâlnire și schimb de experiențe pentru profesioniștii pasionați de design interior și arhitectură\, continuând tradiția de excelență și inovație stabilită de edițiile anterioare.[/vc_column_text][vc_button button_color=”color-wvjs” size=”btn-lg” radius=”btn-square” wide=”yes” custom_typo=”yes” font_family=”font-762333″ font_weight=”600″ text_transform=”uppercase” letter_spacing=”fontspace-197073″ border_width=”0″ link=”url:https%3A%2F%2Fzfrmz.eu%2F7yawprBUkjT9JhbyfuBJ|target:_blank” button_color_type=”uncode-palette” uncode_shortcode_id=”499821″]Înscrie-te acum![/vc_button][/vc_column][/vc_row][vc_row unlock_row_content=”yes” row_height_percent=”0″ back_color=”color-lxmt” overlay_alpha=”50″ gutter_size=”3″ column_width_percent=”100″ shift_y=”0″ z_index=”0″ uncode_shortcode_id=”133399″ back_color_type=”uncode-palette”][vc_column column_width_percent=”100″ gutter_size=”2″ overlay_alpha=”50″ shift_x=”0″ shift_y=”0″ shift_y_down=”0″ z_index=”0″ medium_width=”0″ mobile_width=”0″ width=”1/1″ uncode_shortcode_id=”476686″][vc_row_inner][vc_column_inner column_width_percent=”100″ gutter_size=”2″ overlay_alpha=”50″ shift_x=”0″ shift_y=”0″ shift_y_down=”0″ z_index=”0″ medium_width=”0″ mobile_width=”0″ width=”1/2″ uncode_shortcode_id=”129511″][vc_custom_heading text_font=”font-762333″ text_size=”h3″ text_weight=”500″ text_height=”fontheight-179065″ text_space=”fontspace-781688″ uncode_shortcode_id=”104247″]Networking\, vin și mâncare românească [/vc_custom_heading][vc_column_text uncode_shortcode_id=”210716″]Evenimentul se deschide cu o perioadă dedicată networking-ului\, oferind participanților șansa de a interacționa într-un cadru informal și prietenos\, pe fundalul unui pahar de vin select și aperitive românești. Aceasta este oportunitatea pentru a lega noi relații profesionale și pentru a împărtăși idei sau provocări cu colegi din domeniu.[/vc_column_text][vc_custom_heading text_font=”font-762333″ text_size=”h3″ text_weight=”500″ text_height=”fontheight-179065″ text_space=”fontspace-781688″ uncode_shortcode_id=”176049″]Explorare creativă[/vc_custom_heading][vc_column_text uncode_shortcode_id=”703690″]Opțional\, participanții se pot implica activ și creativ\, această activitate adresându-se arhitecților și designerilor de interior dornici să experimenteze cu diverse tipuri de parchet\, nuanțe și uleiuri.[/vc_column_text][/vc_column_inner][vc_column_inner column_width_percent=”100″ gutter_size=”2″ overlay_alpha=”50″ shift_x=”0″ shift_y=”0″ shift_y_down=”0″ z_index=”0″ medium_width=”0″ mobile_width=”0″ width=”1/2″ uncode_shortcode_id=”103791″][vc_custom_heading text_font=”font-762333″ text_size=”h3″ text_weight=”500″ text_height=”fontheight-179065″ text_space=”fontspace-781688″ uncode_shortcode_id=”261377″]Invitat special – Magda Dorobanțu[/vc_custom_heading][vc_column_text uncode_shortcode_id=”861334″]Într-un context în care suntem compleșiți de ceea ce avem de făcut\, Magda te invită la o practică prin care înveți să prioritizezi ceea ce contează cu adevărat pentru tine\, recunoscând consecințele ascunse ale fiecărei alegeri pe care o faci. \n🧒 Despre Magda Dorobanțu \nMagda Dorobanțu este Executive Coach acreditat de Federația Internațională de Coaching și a lucrat cu leaderi din întreaga lume. Înainte de coaching\, Magda a fost bancherul unora dintre cele mai mari companii din domeniul construcțiilor din România. \nClienții Magdei spun:”Ca rezultat a coaching-ului\, mă simt mai proactivă și mai productivă\, mai prezentă și am ajuns la un management mai bun al timpului. Mă simt motivată și plină de energie.”[/vc_column_text][vc_custom_heading text_font=”font-762333″ text_size=”h3″ text_weight=”500″ text_height=”fontheight-179065″ text_space=”fontspace-781688″ uncode_shortcode_id=”997710″]De ce di’zainin by Alma Parchet?[/vc_custom_heading][vc_column_text uncode_shortcode_id=”136271″]di’zainin s-a născut din convingerea fondatoarei Georgiana Enache că\, prin colaborare și schimb de cunoștințe\, putem evolua împreună\, spre beneficiul final al clienților de design interior. \nAșasar\, vă invităm cu drag pe 26 septembrie\, ora 18.00\, la restaurantul Nicorești\, strada Toamnei nr 13\, etaj 1.[/vc_column_text][/vc_column_inner][/vc_row_inner][/vc_column][/vc_row][vc_row row_height_percent=”0″ override_padding=”yes” h_padding=”0″ top_padding=”2″ bottom_padding=”2″ overlay_alpha=”50″ equal_height=”yes” gutter_size=”3″ column_width_percent=”100″ border_color=”color-143410″ border_style=”solid” shift_y=”0″ z_index=”0″ uncode_shortcode_id=”358483″ border_color_type=”uncode-palette” el_id=”cstextra36″][vc_column column_width_percent=”100″ position_vertical=”middle” align_horizontal=”align_center” gutter_size=”2″ overlay_alpha=”50″ shift_x=”0″ shift_y=”0″ shift_y_down=”0″ z_index=”0″ medium_width=”0″ mobile_width=”0″ width=”1/1″ uncode_shortcode_id=”189231″][vc_custom_heading text_font=”font-762333″ text_size=”h3″ text_weight=”500″ text_height=”fontheight-179065″ text_space=”fontspace-781688″ uncode_shortcode_id=”917741″]Unde și când?[/vc_custom_heading][vc_column_text uncode_shortcode_id=”466939″]26 septembrie\, ora 18.00\, la restaurantul Nicorești\, strada Toamnei nr 13\, etaj 1.[/vc_column_text][vc_column_text uncode_shortcode_id=”139573″]Vă alăturați la eveniment înscriindu-vă prin formularul de mai jos. Odată ce l-ați completat\, veți primi toate detaliile. \nAtenție: Locurile sunt limitate.[/vc_column_text][vc_button button_color=”color-wvjs” size=”btn-lg” radius=”btn-square” wide=”yes” custom_typo=”yes” font_family=”font-762333″ font_weight=”600″ text_transform=”uppercase” letter_spacing=”fontspace-197073″ border_width=”0″ link=”url:https%3A%2F%2Fzfrmz.eu%2F7yawprBUkjT9JhbyfuBJ|target:_blank” button_color_type=”uncode-palette” uncode_shortcode_id=”187439″]Înscrie-te acum![/vc_button][/vc_column][/vc_row]
URL:https://superparchet.ro/eveniment/dizainin-by-alma-parchet-editia-9/
LOCATION:restaurantul Nicorești\, strada Toamnei nr 13\, etaj 1\, Bucuresti\, România
CATEGORIES:di’zainin
ATTACH;FMTTYPE=image/jpeg:https://superparchet.ro/wp-content/uploads/2024/09/instagram_Alma-parchet_eveniment-SEPTEMBRIE.jpg
ORGANIZER;CN="Alma Parchet":MAILTO:office@superparchet.ro
END:VEVENT
END:VCALENDAR