BEGIN:VCALENDAR
VERSION:2.0
PRODID:-//Alma Parchet - ECPv6.15.20//NONSGML v1.0//EN
CALSCALE:GREGORIAN
METHOD:PUBLISH
X-ORIGINAL-URL:https://superparchet.ro
X-WR-CALDESC:Evenimente pentru Alma Parchet
REFRESH-INTERVAL;VALUE=DURATION:PT1H
X-Robots-Tag:noindex
X-PUBLISHED-TTL:PT1H
BEGIN:VTIMEZONE
TZID:Europe/Helsinki
BEGIN:DAYLIGHT
TZOFFSETFROM:+0200
TZOFFSETTO:+0300
TZNAME:EEST
DTSTART:20220327T010000
END:DAYLIGHT
BEGIN:STANDARD
TZOFFSETFROM:+0300
TZOFFSETTO:+0200
TZNAME:EET
DTSTART:20221030T010000
END:STANDARD
BEGIN:DAYLIGHT
TZOFFSETFROM:+0200
TZOFFSETTO:+0300
TZNAME:EEST
DTSTART:20230326T010000
END:DAYLIGHT
BEGIN:STANDARD
TZOFFSETFROM:+0300
TZOFFSETTO:+0200
TZNAME:EET
DTSTART:20231029T010000
END:STANDARD
BEGIN:DAYLIGHT
TZOFFSETFROM:+0200
TZOFFSETTO:+0300
TZNAME:EEST
DTSTART:20240331T010000
END:DAYLIGHT
BEGIN:STANDARD
TZOFFSETFROM:+0300
TZOFFSETTO:+0200
TZNAME:EET
DTSTART:20241027T010000
END:STANDARD
END:VTIMEZONE
BEGIN:VEVENT
DTSTART;TZID=Europe/Helsinki:20231123T180000
DTEND;TZID=Europe/Helsinki:20231123T203000
DTSTAMP:20260420T080650
CREATED:20231026T054624Z
LAST-MODIFIED:20231118T092701Z
UID:89770-1700762400-1700771400@superparchet.ro
SUMMARY:di’zainin by Alma Parchet\, ediția 5
DESCRIPTION:[vc_row row_height_percent=”0″ override_padding=”yes” h_padding=”0″ top_padding=”2″ bottom_padding=”2″ overlay_alpha=”50″ gutter_size=”3″ column_width_percent=”100″ border_color=”color-143410″ border_style=”solid” shift_y=”0″ z_index=”0″ uncode_shortcode_id=”126599″ border_color_type=”uncode-palette” el_id=”cstextra36″][vc_column][vc_separator sep_color=”color-143410″ uncode_shortcode_id=”405246″ sep_color_type=”uncode-palette”][/vc_column][/vc_row][vc_row row_height_percent=”0″ override_padding=”yes” h_padding=”0″ top_padding=”0″ bottom_padding=”2″ overlay_alpha=”50″ gutter_size=”3″ column_width_percent=”100″ border_color=”color-143410″ border_style=”solid” shift_y=”0″ z_index=”0″ uncode_shortcode_id=”851075″ border_color_type=”uncode-palette” el_id=”cstextra36″][vc_column column_width_percent=”100″ gutter_size=”3″ overlay_alpha=”50″ shift_x=”0″ shift_y=”0″ shift_y_down=”0″ z_index=”0″ medium_width=”0″ mobile_width=”0″ sticky=”yes” width=”1/2″ uncode_shortcode_id=”181414″][vc_single_image media=”89789″ media_width_percent=”100″ media_ratio=”one-one” uncode_shortcode_id=”108823″][/vc_column][vc_column column_width_percent=”100″ gutter_size=”2″ overlay_alpha=”50″ shift_x=”0″ shift_y=”0″ shift_y_down=”0″ z_index=”0″ medium_width=”0″ mobile_width=”0″ width=”1/2″ uncode_shortcode_id=”496681″][vc_custom_heading text_font=”font-762333″ text_size=”h3″ text_weight=”500″ text_height=”fontheight-179065″ text_space=”fontspace-781688″ uncode_shortcode_id=”105121″]Eveniment dedicat arhitecților și designerilor de interior[/vc_custom_heading][vc_column_text uncode_shortcode_id=”114183″]Iată-ne\, ne regăsim la di’zainin by Alma Parchet\, ediția 5\, ediție care va avea loc pe 23 noiembrie\, la ora 18.00\, pe Aleea Alexandru nr. 46\, la A46 Venue. \nCu drag am pus bazele evenimentului „di’zainin by Alma Parchet”\, un spațiu gândit special pentru specialiștii din domeniul designului de interior și arhitectură. E mai mult decât un eveniment de networking; e conceput ca un hub al cărui fundament este convingerea că împreună putem evolua\, iar cel care câștigă cel mai mult din această colaborare este clientul. \nEvenimentul „di’zainin by Alma Parchet” se desfășoară o dată pe lună\, în ultima joi (cu mici excepții)\, într-o locație pe care noi\, organizatorii\, o stabilim. Este un prilej de networking și socializare\, dar și un cadru de dezvoltare și cunoaștere pentru arhitecți și designeri de interior\, structurat în trei etape.[/vc_column_text][vc_button button_color=”color-wvjs” size=”btn-lg” radius=”btn-square” wide=”yes” custom_typo=”yes” font_family=”font-762333″ font_weight=”600″ text_transform=”uppercase” letter_spacing=”fontspace-197073″ border_width=”0″ link=”url:https%3A%2F%2Fbit.ly%2F23Noiembrie|target:_blank” button_color_type=”uncode-palette” uncode_shortcode_id=”120241″]Înscrie-te acum![/vc_button][/vc_column][/vc_row][vc_row unlock_row_content=”yes” row_height_percent=”0″ back_color=”color-lxmt” overlay_alpha=”50″ gutter_size=”3″ column_width_percent=”100″ shift_y=”0″ z_index=”0″ uncode_shortcode_id=”133399″ back_color_type=”uncode-palette”][vc_column column_width_percent=”100″ gutter_size=”2″ overlay_alpha=”50″ shift_x=”0″ shift_y=”0″ shift_y_down=”0″ z_index=”0″ medium_width=”0″ mobile_width=”0″ width=”1/1″ uncode_shortcode_id=”476686″][vc_row_inner][vc_column_inner column_width_percent=”100″ gutter_size=”2″ overlay_alpha=”50″ shift_x=”0″ shift_y=”0″ shift_y_down=”0″ z_index=”0″ medium_width=”0″ mobile_width=”0″ width=”1/2″ uncode_shortcode_id=”129511″][vc_custom_heading text_font=”font-762333″ text_size=”h3″ text_weight=”500″ text_height=”fontheight-179065″ text_space=”fontspace-781688″ uncode_shortcode_id=”175220″]Primire și networking[/vc_custom_heading][vc_column_text uncode_shortcode_id=”146021″]În cadrul fiecărui eveniment „di’zainin by Alma Parchet”\, demarăm cu o perioadă de networking într-un ambient prietenos. La un pahar de vin de calitate\, un aperitiv și un cadru propice pentru a lega relații cu colegi din aceeași sferă de activitate.[/vc_column_text][vc_custom_heading text_font=”font-762333″ text_size=”h3″ text_weight=”500″ text_height=”fontheight-179065″ text_space=”fontspace-781688″ uncode_shortcode_id=”404433″]Explorare creativă: învățare practică[/vc_custom_heading][vc_column_text uncode_shortcode_id=”207859″]Această secțiune este dedicată arhitecților și designerilor care doresc să experimenteze pe diferite tipuri de parchet\, nuanțe și uleiuri.[/vc_column_text][/vc_column_inner][vc_column_inner column_width_percent=”100″ gutter_size=”2″ overlay_alpha=”50″ shift_x=”0″ shift_y=”0″ shift_y_down=”0″ z_index=”0″ medium_width=”0″ mobile_width=”0″ width=”1/2″ uncode_shortcode_id=”103791″][vc_custom_heading text_font=”font-762333″ text_size=”h3″ text_weight=”500″ text_height=”fontheight-179065″ text_space=”fontspace-781688″ uncode_shortcode_id=”188614″]Invitat special: Ani Olteanu[/vc_custom_heading][vc_column_text uncode_shortcode_id=”191624″]Ani Olteanu\, un economist cu aproximativ două decenii de experiență în management și dezvoltarea de noi afaceri. În calitate de partener LMI România\, facilitează și pune în aplicare programe de management și vânzări pentru companii din diverse sectoare\, concentrându-se pe realizarea obiectivelor de cifră de afaceri\, profitabilitate\, cotă de piață\, creșterea performanțelor oamenilor din zona de management. \nTema – Smart is good but smarter is better[/vc_column_text][/vc_column_inner][/vc_row_inner][/vc_column][/vc_row][vc_row row_height_percent=”0″ override_padding=”yes” h_padding=”0″ top_padding=”2″ bottom_padding=”2″ overlay_alpha=”50″ equal_height=”yes” gutter_size=”3″ column_width_percent=”100″ border_color=”color-143410″ border_style=”solid” shift_y=”0″ z_index=”0″ uncode_shortcode_id=”358483″ border_color_type=”uncode-palette” el_id=”cstextra36″][vc_column column_width_percent=”100″ position_vertical=”middle” gutter_size=”2″ overlay_alpha=”50″ shift_x=”0″ shift_y=”0″ shift_y_down=”0″ z_index=”0″ medium_width=”0″ mobile_width=”0″ width=”1/2″ uncode_shortcode_id=”136493″][vc_custom_heading text_font=”font-762333″ text_size=”h3″ text_weight=”500″ text_height=”fontheight-179065″ text_space=”fontspace-781688″ uncode_shortcode_id=”917741″]Unde și când?[/vc_custom_heading][vc_column_text uncode_shortcode_id=”822751″]23 noiembrie\, la ora 18.00\, pe Aleea Alexandru nr. 46\, la A46 venue.[/vc_column_text][vc_column_text uncode_shortcode_id=”517118″]Vă alăturați la eveniment înscriindu-vă prin formularul de mai jos. Odată ce l-ați completat\, veți primi toate detaliile. \nAtenție: Locurile sunt limitate.[/vc_column_text][vc_button button_color=”color-wvjs” size=”btn-lg” radius=”btn-square” wide=”yes” custom_typo=”yes” font_family=”font-762333″ font_weight=”600″ text_transform=”uppercase” letter_spacing=”fontspace-197073″ border_width=”0″ link=”url:https%3A%2F%2Fbit.ly%2F23Noiembrie|target:_blank” button_color_type=”uncode-palette” uncode_shortcode_id=”120241″]Înscrie-te acum![/vc_button][/vc_column][vc_column column_width_percent=”100″ gutter_size=”2″ overlay_alpha=”50″ shift_x=”0″ shift_y=”0″ shift_y_down=”0″ z_index=”0″ medium_width=”0″ mobile_width=”0″ width=”1/2″ uncode_shortcode_id=”783860″][vc_single_image media=”89772″ media_width_percent=”100″ uncode_shortcode_id=”293899″][/vc_column][/vc_row]
URL:https://superparchet.ro/eveniment/dizainin-by-alma-parchet-editia-5-2/
LOCATION:A46 Venue\, Aleea Alexandru nr. 46\, Bucuresti\, România
CATEGORIES:di’zainin
ATTACH;FMTTYPE=image/jpeg:https://superparchet.ro/wp-content/uploads/2023/10/instagram_Alma-parchet_eveniment-NOIEMBRIE.jpg
ORGANIZER;CN="Alma Parchet":MAILTO:office@superparchet.ro
END:VEVENT
END:VCALENDAR