BEGIN:VCALENDAR
VERSION:2.0
PRODID:-//Alma Parchet - ECPv6.15.20//NONSGML v1.0//EN
CALSCALE:GREGORIAN
METHOD:PUBLISH
X-WR-CALNAME:Alma Parchet
X-ORIGINAL-URL:https://superparchet.ro
X-WR-CALDESC:Evenimente pentru Alma Parchet
REFRESH-INTERVAL;VALUE=DURATION:PT1H
X-Robots-Tag:noindex
X-PUBLISHED-TTL:PT1H
BEGIN:VTIMEZONE
TZID:Europe/Helsinki
BEGIN:DAYLIGHT
TZOFFSETFROM:+0200
TZOFFSETTO:+0300
TZNAME:EEST
DTSTART:20220327T010000
END:DAYLIGHT
BEGIN:STANDARD
TZOFFSETFROM:+0300
TZOFFSETTO:+0200
TZNAME:EET
DTSTART:20221030T010000
END:STANDARD
BEGIN:DAYLIGHT
TZOFFSETFROM:+0200
TZOFFSETTO:+0300
TZNAME:EEST
DTSTART:20230326T010000
END:DAYLIGHT
BEGIN:STANDARD
TZOFFSETFROM:+0300
TZOFFSETTO:+0200
TZNAME:EET
DTSTART:20231029T010000
END:STANDARD
BEGIN:DAYLIGHT
TZOFFSETFROM:+0200
TZOFFSETTO:+0300
TZNAME:EEST
DTSTART:20240331T010000
END:DAYLIGHT
BEGIN:STANDARD
TZOFFSETFROM:+0300
TZOFFSETTO:+0200
TZNAME:EET
DTSTART:20241027T010000
END:STANDARD
END:VTIMEZONE
BEGIN:VEVENT
DTSTART;TZID=Europe/Helsinki:20231026T180000
DTEND;TZID=Europe/Helsinki:20231026T203000
DTSTAMP:20260420T094228
CREATED:20231017T072531Z
LAST-MODIFIED:20231026T060157Z
UID:89698-1698343200-1698352200@superparchet.ro
SUMMARY:di’zainin by Alma Parchet\, ediția 4
DESCRIPTION:[vc_row row_height_percent=”0″ override_padding=”yes” h_padding=”0″ top_padding=”2″ bottom_padding=”2″ overlay_alpha=”50″ gutter_size=”3″ column_width_percent=”100″ border_color=”color-143410″ border_style=”solid” shift_y=”0″ z_index=”0″ uncode_shortcode_id=”126599″ border_color_type=”uncode-palette” el_id=”cstextra36″][vc_column][vc_separator sep_color=”color-143410″ uncode_shortcode_id=”405246″ sep_color_type=”uncode-palette”][/vc_column][/vc_row][vc_row row_height_percent=”0″ override_padding=”yes” h_padding=”0″ top_padding=”0″ bottom_padding=”2″ overlay_alpha=”50″ gutter_size=”3″ column_width_percent=”100″ border_color=”color-143410″ border_style=”solid” shift_y=”0″ z_index=”0″ uncode_shortcode_id=”851075″ border_color_type=”uncode-palette” el_id=”cstextra36″][vc_column column_width_percent=”100″ gutter_size=”3″ overlay_alpha=”50″ shift_x=”0″ shift_y=”0″ shift_y_down=”0″ z_index=”0″ medium_width=”0″ mobile_width=”0″ sticky=”yes” width=”1/2″ uncode_shortcode_id=”181414″][vc_single_image dynamic=”yes” media_width_percent=”100″ media_ratio=”one-one” uncode_shortcode_id=”208952″][/vc_column][vc_column column_width_percent=”100″ gutter_size=”2″ overlay_alpha=”50″ shift_x=”0″ shift_y=”0″ shift_y_down=”0″ z_index=”0″ medium_width=”0″ mobile_width=”0″ width=”1/2″ uncode_shortcode_id=”783860″][vc_custom_heading text_font=”font-762333″ text_size=”h3″ text_weight=”500″ text_height=”fontheight-179065″ text_space=”fontspace-781688″ uncode_shortcode_id=”105121″]Eveniment dedicat arhitecților și designerilor de interior[/vc_custom_heading][vc_column_text uncode_shortcode_id=”452857″]Pe 26 octombrie 2023 cu drag vă invităm la di’zainin by Alma Parchet\, ediția 4\, eveniment dedicat arhitecților și designerilor de interior. Ne dorim să creștem acest eveniment lunar într-un hub al creatorilor de frumos în materie de design\, o comunitate prin care să creștem împreună. \nCa la fiecare ediție\, evenimentul este format din trei părți:[/vc_column_text][vc_custom_heading text_font=”font-762333″ text_size=”h3″ text_weight=”500″ text_height=”fontheight-179065″ text_space=”fontspace-781688″ uncode_shortcode_id=”175220″]Primire și networking[/vc_custom_heading][vc_column_text uncode_shortcode_id=”162525″]Ne cunoaștem\, socializăm și încălzim atmosfera cu un vin bun și o gustare.[/vc_column_text][vc_custom_heading text_font=”font-762333″ text_size=”h3″ text_weight=”500″ text_height=”fontheight-179065″ text_space=”fontspace-781688″ uncode_shortcode_id=”200557″]Creativitate experiențială[/vc_custom_heading][vc_column_text uncode_shortcode_id=”569238″]Pentru cei care vor să experimenteze finisaje de parchet sunt invitați să se joace cu culori și texturi\, să coloreze și să învețe aplicat efecte.[/vc_column_text][vc_custom_heading text_font=”font-762333″ text_size=”h3″ text_weight=”500″ text_height=”fontheight-179065″ text_space=”fontspace-781688″ uncode_shortcode_id=”897899″]Invitat surpriză[/vc_custom_heading][vc_column_text uncode_shortcode_id=”954241″]Corina Ștefan ne învață despre metoda AIDA în copywriting – pentru site și social media – și importanța sincronizării primului A (atrage) cu Avatarul clinetului de design interior și cum să planifice articole de blog pentru optimizarea sitelui\, pentru relevanță și potențial trafic.[/vc_column_text][vc_custom_heading text_font=”font-762333″ text_size=”h3″ text_weight=”500″ text_height=”fontheight-179065″ text_space=”fontspace-781688″ uncode_shortcode_id=”917741″]Unde și când?[/vc_custom_heading][vc_column_text uncode_shortcode_id=”213472″]Evenimentul este pe 26 octombrie\, începând cu ora 18.00 pe Aleea Alexandru nr. 46\, sector 1. Locurile sunt limitate. \nInscriere la eveniment se face completând formularul de mai jos. \nDupă înscriere veți primi pe email toate detaliile despre eveniment. \nVă așteptăm cu drag! \nPS: Dacă vii alături de o prietenă/prieten să îi transmiți linkul pentru înscriere. E și mai jos.[/vc_column_text][/vc_column][/vc_row]
URL:https://superparchet.ro/eveniment/dizainin-by-alma-parchet-editia-4/
LOCATION:A46 Venue\, Aleea Alexandru nr. 46\, Bucuresti\, România
CATEGORIES:di’zainin
ATTACH;FMTTYPE=image/jpeg:https://superparchet.ro/wp-content/uploads/2023/10/WhatsApp-Image-2023-10-16-at-13.39.44_511df6c9.jpg
ORGANIZER;CN="Alma Parchet":MAILTO:office@superparchet.ro
END:VEVENT
END:VCALENDAR